Workbook

Sheet Mode d'emploi
A1: - Rendez-vous dans le portail Repères avec vos codes "Directeur" - Allez dans l'onglet "classes" et téléchargez les résultats détaillés en français et mathématiques de chaque classe de CP et de CE1 de votre école - Allez dans le premier onglet de chaque fichier de résultats (onglet "groupes") et comptez le nombre d'élèves fragiles et à besoins pour chaque compétence - Reportez ce nombre dans la colonne correspondante de la feuille de travail CP et de la feuille de travail CE1 de ce fichier - Analysez les résultats par classe dans l'onglet "résultats CP" et pour l'école dans l'onglet "Synthèse école" de ce fichier

Sheet Feuille de travail CP
C6: Comprendre des mots lus par l'enseignant | E6: Comprendre des phrases lues par l'enseignant | G6: Comprendre un texte lu par l'enseignant | I6: Manipuler des syllabes | K6: Manipuler des phonèmes | M6: Connaître le nom des lettres et le son qu'elles produisent | O6: Reconnaître des lettres parmi des lettres | Q6: Comparer des suites de lettres
A7: Classes | B7: Nombre total d'élèves ayant passé les évaluations | C7: Nombre d'élèves à besoins | D7: Nombre d'élèves fragiles | E7: Nombre d'élèves à besoins | F7: Nombre d'élèves fragiles | G7: Nombre d'élèves à besoins | H7: Nombre d'élèves fragiles | I7: Nombre d'élèves à besoins | J7: Nombre d'élèves fragiles | K7: Nombre d'élèves à besoins | L7: Nombre d'élèves fragiles | M7: Nombre d'élèves à besoins | N7: Nombre d'élèves fragiles | O7: Nombre d'élèves à besoins | P7: Nombre d'élèves fragiles | Q7: Nombre d'élèves à besoins | R7: Nombre d'élèves fragiles
A8: CP A
A9: CP B
A10: CP C
A16: Total | B16: =SUM(B8:B15) -> 0 | C16: =SUM(C8:C15) -> 0 | D16: =SUM(D8:D15) -> 0 | E16: =SUM(E8:E15) -> 0 | F16: =SUM(F8:F15) -> 0 | G16: =SUM(G8:G15) -> 0 | H16: =SUM(H8:H15) -> 0 | I16: =SUM(I8:I15) -> 0 | ... R16: =SUM(R8:R15) -> 0
C20: Ecrire des nombres entiers | E20: Lire des nombres entiers | G20: Résoudre des problèmes | I20: Quantifier des collections | K20: Comparer des nombres | M20: Associer un nombre à une position | O20: Reproduire un assemblage
A21: Classes | B21: Nombre total d'élèves ayant passé les évaluations | C21: Nombre d'élèves à besoins | D21: Nombre d'élèves fragiles | E21: Nombre d'élèves à besoins | F21: Nombre d'élèves fragiles | G21: Nombre d'élèves à besoins | H21: Nombre d'élèves fragiles | I21: Nombre d'élèves à besoins | J21: Nombre d'élèves fragiles | K21: Nombre d'élèves à besoins | L21: Nombre d'élèves fragiles | M21: Nombre d'élèves à besoins | N21: Nombre d'élèves fragiles | O21: Nombre d'élèves à besoins | P21: Nombre d'élèves fragiles
A22: CP A
A23: CP B
A24: CP C
A30: Total | B30: =SUM(B22:B29) -> 0 | C30: =SUM(C22:C29) -> 0 | D30: =SUM(D22:D29) -> 0 | E30: =SUM(E22:E29) -> 0 | F30: =SUM(F22:F29) -> 0 | G30: =SUM(G22:G29) -> 0 | H30: =SUM(H22:H29) -> 0 | I30: =SUM(I22:I29) -> 0 | ... P30: =SUM(P22:P29) -> 0

Sheet Feuille de travail CE1
C6: Comprendre des mots lus par l'enseignant | E6: Comprendre des phrases lues par l'enseignant | G6: Ecrire des syllabes simples et complexes | I6: Ecrire des mots | K6: Comprendre des phrases lues seul | M6: Comprendre un texte lu seul | O6: Lire à voix haute des mots | Q6: Lire à voix haute un texte
A7: Classes | B7: Nombre total d'élèves ayant passé les évaluations | C7: Nombre d'élèves à besoins | D7: Nombre d'élèves fragiles | E7: Nombre d'élèves à besoins | F7: Nombre d'élèves fragiles | G7: Nombre d'élèves à besoins | H7: Nombre d'élèves fragiles | I7: Nombre d'élèves à besoins | J7: Nombre d'élèves fragiles | K7: Nombre d'élèves à besoins | L7: Nombre d'élèves fragiles | M7: Nombre d'élèves à besoins | N7: Nombre d'élèves fragiles | O7: Nombre d'élèves à besoins | P7: Nombre d'élèves fragiles | Q7: Nombre d'élèves à besoins | R7: Nombre d'élèves fragiles
A8: CE1 A
A9: CE1 B
A10: CE1 C
A16: Total | B16: =SUM(B8:B15) -> 0 | C16: =SUM(C8:C15) -> 0 | D16: =SUM(D8:D15) -> 0 | E16: =SUM(E8:E15) -> 0 | F16: =SUM(F8:F15) -> 0 | G16: =SUM(G8:G15) -> 0 | H16: =SUM(H8:H15) -> 0 | I16: =SUM(I8:I15) -> 0 | ... R16: =SUM(R8:R15) -> 0
C20: Reproduire un assemblage | E20: Associer un nombre à une position | G20: Additionner | I20: Soustraire | K20: Calculer mentalement | M20: Ecrire des nombres entiers | O20: Lire des nombres entiers | Q20: Représenter des nombres entiers | S20: Résoudre des problèmes
A21: Classes | B21: Nombre total d'élèves ayant passé les évaluations | C21: Nombre d'élèves à besoins | D21: Nombre d'élèves fragiles | E21: Nombre d'élèves à besoins | F21: Nombre d'élèves fragiles | G21: Nombre d'élèves à besoins | H21: Nombre d'élèves fragiles | I21: Nombre d'élèves à besoins | J21: Nombre d'élèves fragiles | K21: Nombre d'élèves à besoins | L21: Nombre d'élèves fragiles | M21: Nombre d'élèves à besoins | N21: Nombre d'élèves fragiles | O21: Nombre d'élèves à besoins | P21: Nombre d'élèves fragiles | Q21: Nombre d'élèves à besoins | R21: Nombre d'élèves fragiles | S21: Nombre d'élèves à besoins | T21: Nombre d'élèves fragiles
A22: CE1 A
A23: CE1 B
A24: CE1 C
A30: Total | B30: =SUM(B22:B29) -> 0 | C30: =SUM(C22:C29) -> 0 | D30: =SUM(D22:D29) -> 0 | E30: =SUM(E22:E29) -> 0 | F30: =SUM(F22:F29) -> 0 | G30: =SUM(G22:G29) -> 0 | H30: =SUM(H22:H29) -> 0 | I30: =SUM(I22:I29) -> 0 | ... T30: =SUM(T22:T29) -> 0

Sheet Résultats CP
C6: Comprendre des mots lus par l'enseignant | F6: Comprendre des phrases lues par l'enseignant | I6: Comprendre un texte lu par l'enseignant | L6: Manipuler des syllabes | O6: Manipuler des phonèmes | R6: Connaître le nom des lettres et le son qu'elles produisent | U6: Reconnaître des lettres parmi des lettres | X6: Comparer des suites de lettres
A7: Classes | B7: Nombre total d'élèves ayant passé les évaluations | C7: % Groupe sous le seuil 1 (à besoin) | D7: % Groupe entre les seuils 1 et 2 (fragile) | E7: % Groupe au-dessus du seuil 2 | F7: % Groupe sous le seuil 1 (à besoin) | G7: % Groupe entre les seuils 1 et 2 (fragile) | H7: % Groupe au-dessus du seuil 2 | I7: % Groupe sous le seuil 1 (à besoin) | J7: % Groupe entre les seuils 1 et 2 (fragile) | K7: % Groupe au-dessus du seuil 2 | L7: % Groupe sous le seuil 1 (à besoin) | M7: % Groupe entre les seuils 1 et 2 (fragile) | N7: % Groupe au-dessus du seuil 2 | O7: % Groupe sous le seuil 1 (à besoin) | P7: % Groupe entre les seuils 1 et 2 (fragile) | Q7: % Groupe au-dessus du seuil 2 | R7: % Groupe sous le seuil 1 (à besoin) | S7: % Groupe entre les seuils 1 et 2 (fragile) | T7: % Groupe au-dessus du seuil 2 | U7: % Groupe sous le seuil 1 (à besoin) | V7: % Groupe entre les seuils 1 et 2 (fragile) | W7: % Groupe au-dessus du seuil 2 | X7: % Groupe sous le seuil 1 (à besoin) | Y7: % Groupe entre les seuils 1 et 2 (fragile) | Z7: % Groupe au-dessus du seuil 2
A8: CP A | B8: ='Feuille de travail CP'!B8 -> 0 | C8: ='Feuille de travail CP'!C8*100/'Feuille de travail CP'!B8 -> #DIV/0! | D8: ='Feuille de travail CP'!D8*100/'Feuille de travail CP'!B8 -> #DIV/0! | E8: =100-(C8+D8) -> #DIV/0! | F8: ='Feuille de travail CP'!E8*100/'Feuille de travail CP'!B8 -> #DIV/0! | G8: ='Feuille de travail CP'!F8*100/'Feuille de travail CP'!B8 -> #DIV/0! | H8: =100-(F8+G8) -> #DIV/0! | I8: ='Feuille de travail CP'!G8*100/'Feuille de travail CP'!B8 -> #DIV/0! | J8: ='Feuille de travail CP'!H8*100/'Feuille de travail CP'!B8 -> #DIV/0! | K8: =100-(I8+J8) -> #DIV/0! | L8: ='Feuille de travail CP'!I8*100/'Feuille de travail CP'!B8 -> #DIV/0! | M8: ='Feuille de travail CP'!J8*100/'Feuille de travail CP'!B8 -> #DIV/0! | N8: =100-(L8+M8) -> #DIV/0! | O8: ='Feuille de travail CP'!K8*100/'Feuille de travail CP'!B8 -> #DIV/0! | P8: ='Feuille de travail CP'!L8*100/'Feuille de travail CP'!B8 -> #DIV/0! | Q8: =100-(O8+P8) -> #DIV/0! | R8: ='Feuille de travail CP'!M8*100/'Feuille de travail CP'!B8 -> #DIV/0! | S8: ='Feuille de travail CP'!N8*100/'Feuille de travail CP'!B8 -> #DIV/0! | T8: =100-(R8+S8) -> #DIV/0! | U8: ='Feuille de travail CP'!O8*100/'Feuille de travail CP'!B8 -> #DIV/0! | V8: ='Feuille de travail CP'!P8*100/'Feuille de travail CP'!B8 -> #DIV/0! | W8: =100-(U8+V8) -> #DIV/0! | X8: ='Feuille de travail CP'!Q8*100/'Feuille de travail CP'!B8 -> #DIV/0! | Y8: ='Feuille de travail CP'!R8*100/'Feuille de travail CP'!B8 -> #DIV/0! | Z8: =100-(X8+Y8) -> #DIV/0!
A9: CP B | B9: ='Feuille de travail CP'!B9 -> 0 | C9: ='Feuille de travail CP'!C9*100/'Feuille de travail CP'!B9 -> #DIV/0! | D9: ='Feuille de travail CP'!D9*100/'Feuille de travail CP'!B9 -> #DIV/0! | E9: =100-(C9+D9) -> #DIV/0! | F9: ='Feuille de travail CP'!E9*100/'Feuille de travail CP'!B9 -> #DIV/0! | G9: ='Feuille de travail CP'!F9*100/'Feuille de travail CP'!B9 -> #DIV/0! | H9: =100-(F9+G9) -> #DIV/0! | I9: ='Feuille de travail CP'!G9*100/'Feuille de travail CP'!B9 -> #DIV/0! | J9: ='Feuille de travail CP'!H9*100/'Feuille de travail CP'!B9 -> #DIV/0! | K9: =100-(I9+J9) -> #DIV/0! | L9: ='Feuille de travail CP'!I9*100/'Feuille de travail CP'!B9 -> #DIV/0! | M9: ='Feuille de travail CP'!J9*100/'Feuille de travail CP'!B9 -> #DIV/0! | N9: =100-(L9+M9) -> #DIV/0! | O9: ='Feuille de travail CP'!K9*100/'Feuille de travail CP'!B9 -> #DIV/0! | P9: ='Feuille de travail CP'!L9*100/'Feuille de travail CP'!B9 -> #DIV/0! | Q9: =100-(O9+P9) -> #DIV/0! | R9: ='Feuille de travail CP'!M9*100/'Feuille de travail CP'!B9 -> #DIV/0! | S9: ='Feuille de travail CP'!N9*100/'Feuille de travail CP'!B9 -> #DIV/0! | T9: =100-(R9+S9) -> #DIV/0! | U9: ='Feuille de travail CP'!O9*100/'Feuille de travail CP'!B9 -> #DIV/0! | V9: ='Feuille de travail CP'!P9*100/'Feuille de travail CP'!B9 -> #DIV/0! | W9: =100-(U9+V9) -> #DIV/0! | X9: ='Feuille de travail CP'!Q9*100/'Feuille de travail CP'!B9 -> #DIV/0! | Y9: ='Feuille de travail CP'!R9*100/'Feuille de travail CP'!B9 -> #DIV/0! | Z9: =100-(X9+Y9) -> #DIV/0!
A10: CP C | B10: ='Feuille de travail CP'!B10 -> 0 | C10: ='Feuille de travail CP'!C10*100/'Feuille de travail CP'!B10 -> #DIV/0! | D10: ='Feuille de travail CP'!D10*100/'Feuille de travail CP'!B10 -> #DIV/0! | E10: =100-(C10+D10) -> #DIV/0! | F10: ='Feuille de travail CP'!E10*100/'Feuille de travail CP'!B10 -> #DIV/0! | G10: ='Feuille de travail CP'!F10*100/'Feuille de travail CP'!B10 -> #DIV/0! | H10: =100-(F10+G10) -> #DIV/0! | I10: ='Feuille de travail CP'!G10*100/'Feuille de travail CP'!B10 -> #DIV/0! | J10: ='Feuille de travail CP'!H10*100/'Feuille de travail CP'!B10 -> #DIV/0! | K10: =100-(I10+J10) -> #DIV/0! | L10: ='Feuille de travail CP'!I10*100/'Feuille de travail CP'!B10 -> #DIV/0! | M10: ='Feuille de travail CP'!J10*100/'Feuille de travail CP'!B10 -> #DIV/0! | N10: =100-(L10+M10) -> #DIV/0! | O10: ='Feuille de travail CP'!K10*100/'Feuille de travail CP'!B10 -> #DIV/0! | P10: ='Feuille de travail CP'!L10*100/'Feuille de travail CP'!B10 -> #DIV/0! | Q10: =100-(O10+P10) -> #DIV/0! | R10: ='Feuille de travail CP'!M10*100/'Feuille de travail CP'!B10 -> #DIV/0! | S10: ='Feuille de travail CP'!N10*100/'Feuille de travail CP'!B10 -> #DIV/0! | T10: =100-(R10+S10) -> #DIV/0! | U10: ='Feuille de travail CP'!O10*100/'Feuille de travail CP'!B10 -> #DIV/0! | V10: ='Feuille de travail CP'!P10*100/'Feuille de travail CP'!B10 -> #DIV/0! | W10: =100-(U10+V10) -> #DIV/0! | X10: ='Feuille de travail CP'!Q10*100/'Feuille de travail CP'!B10 -> #DIV/0! | Y10: ='Feuille de travail CP'!R10*100/'Feuille de travail CP'!B10 -> #DIV/0! | Z10: =100-(X10+Y10) -> #DIV/0!
B11: ='Feuille de travail CP'!B11 -> 0 | C11: ='Feuille de travail CP'!C11*100/'Feuille de travail CP'!B11 -> #DIV/0! | D11: ='Feuille de travail CP'!D11*100/'Feuille de travail CP'!B11 -> #DIV/0! | E11: =100-(C11+D11) -> #DIV/0! | F11: ='Feuille de travail CP'!E11*100/'Feuille de travail CP'!B11 -> #DIV/0! | G11: ='Feuille de travail CP'!F11*100/'Feuille de travail CP'!B11 -> #DIV/0! | H11: =100-(F11+G11) -> #DIV/0! | I11: ='Feuille de travail CP'!G11*100/'Feuille de travail CP'!B11 -> #DIV/0! | J11: ='Feuille de travail CP'!H11*100/'Feuille de travail CP'!B11 -> #DIV/0! | K11: =100-(I11+J11) -> #DIV/0! | L11: ='Feuille de travail CP'!I11*100/'Feuille de travail CP'!B11 -> #DIV/0! | M11: ='Feuille de travail CP'!J11*100/'Feuille de travail CP'!B11 -> #DIV/0! | N11: =100-(L11+M11) -> #DIV/0! | O11: ='Feuille de travail CP'!K11*100/'Feuille de travail CP'!B11 -> #DIV/0! | P11: ='Feuille de travail CP'!L11*100/'Feuille de travail CP'!B11 -> #DIV/0! | Q11: =100-(O11+P11) -> #DIV/0! | R11: ='Feuille de travail CP'!M11*100/'Feuille de travail CP'!B11 -> #DIV/0! | S11: ='Feuille de travail CP'!N11*100/'Feuille de travail CP'!B11 -> #DIV/0! | T11: =100-(R11+S11) -> #DIV/0! | U11: ='Feuille de travail CP'!O11*100/'Feuille de travail CP'!B11 -> #DIV/0! | V11: ='Feuille de travail CP'!P11*100/'Feuille de travail CP'!B11 -> #DIV/0! | W11: =100-(U11+V11) -> #DIV/0! | X11: ='Feuille de travail CP'!Q11*100/'Feuille de travail CP'!B11 -> #DIV/0! | Y11: ='Feuille de travail CP'!R11*100/'Feuille de travail CP'!B11 -> #DIV/0! | Z11: =100-(X11+Y11) -> #DIV/0!
B12: ='Feuille de travail CP'!B12 -> 0 | C12: ='Feuille de travail CP'!C12*100/'Feuille de travail CP'!B12 -> #DIV/0! | D12: ='Feuille de travail CP'!D12*100/'Feuille de travail CP'!B12 -> #DIV/0! | E12: =100-(C12+D12) -> #DIV/0! | F12: ='Feuille de travail CP'!E12*100/'Feuille de travail CP'!B12 -> #DIV/0! | G12: ='Feuille de travail CP'!F12*100/'Feuille de travail CP'!B12 -> #DIV/0! | H12: =100-(F12+G12) -> #DIV/0! | I12: ='Feuille de travail CP'!G12*100/'Feuille de travail CP'!B12 -> #DIV/0! | J12: ='Feuille de travail CP'!H12*100/'Feuille de travail CP'!B12 -> #DIV/0! | K12: =100-(I12+J12) -> #DIV/0! | L12: ='Feuille de travail CP'!I12*100/'Feuille de travail CP'!B12 -> #DIV/0! | M12: ='Feuille de travail CP'!J12*100/'Feuille de travail CP'!B12 -> #DIV/0! | N12: =100-(L12+M12) -> #DIV/0! | O12: ='Feuille de travail CP'!K12*100/'Feuille de travail CP'!B12 -> #DIV/0! | P12: ='Feuille de travail CP'!L12*100/'Feuille de travail CP'!B12 -> #DIV/0! | Q12: =100-(O12+P12) -> #DIV/0! | R12: ='Feuille de travail CP'!M12*100/'Feuille de travail CP'!B12 -> #DIV/0! | S12: ='Feuille de travail CP'!N12*100/'Feuille de travail CP'!B12 -> #DIV/0! | T12: =100-(R12+S12) -> #DIV/0! | U12: ='Feuille de travail CP'!O12*100/'Feuille de travail CP'!B12 -> #DIV/0! | V12: ='Feuille de travail CP'!P12*100/'Feuille de travail CP'!B12 -> #DIV/0! | W12: =100-(U12+V12) -> #DIV/0! | X12: ='Feuille de travail CP'!Q12*100/'Feuille de travail CP'!B12 -> #DIV/0! | Y12: ='Feuille de travail CP'!R12*100/'Feuille de travail CP'!B12 -> #DIV/0! | Z12: =100-(X12+Y12) -> #DIV/0!
B13: ='Feuille de travail CP'!B13 -> 0 | C13: ='Feuille de travail CP'!C13*100/'Feuille de travail CP'!B13 -> #DIV/0! | D13: ='Feuille de travail CP'!D13*100/'Feuille de travail CP'!B13 -> #DIV/0! | E13: =100-(C13+D13) -> #DIV/0! | F13: ='Feuille de travail CP'!E13*100/'Feuille de travail CP'!B13 -> #DIV/0! | G13: ='Feuille de travail CP'!F13*100/'Feuille de travail CP'!B13 -> #DIV/0! | H13: =100-(F13+G13) -> #DIV/0! | I13: ='Feuille de travail CP'!G13*100/'Feuille de travail CP'!B13 -> #DIV/0! | J13: ='Feuille de travail CP'!H13*100/'Feuille de travail CP'!B13 -> #DIV/0! | K13: =100-(I13+J13) -> #DIV/0! | L13: ='Feuille de travail CP'!I13*100/'Feuille de travail CP'!B13 -> #DIV/0! | M13: ='Feuille de travail CP'!J13*100/'Feuille de travail CP'!B13 -> #DIV/0! | N13: =100-(L13+M13) -> #DIV/0! | O13: ='Feuille de travail CP'!K13*100/'Feuille de travail CP'!B13 -> #DIV/0! | P13: ='Feuille de travail CP'!L13*100/'Feuille de travail CP'!B13 -> #DIV/0! | Q13: =100-(O13+P13) -> #DIV/0! | R13: ='Feuille de travail CP'!M13*100/'Feuille de travail CP'!B13 -> #DIV/0! | S13: ='Feuille de travail CP'!N13*100/'Feuille de travail CP'!B13 -> #DIV/0! | T13: =100-(R13+S13) -> #DIV/0! | U13: ='Feuille de travail CP'!O13*100/'Feuille de travail CP'!B13 -> #DIV/0! | V13: ='Feuille de travail CP'!P13*100/'Feuille de travail CP'!B13 -> #DIV/0! | W13: =100-(U13+V13) -> #DIV/0! | X13: ='Feuille de travail CP'!Q13*100/'Feuille de travail CP'!B13 -> #DIV/0! | Y13: ='Feuille de travail CP'!R13*100/'Feuille de travail CP'!B13 -> #DIV/0! | Z13: =100-(X13+Y13) -> #DIV/0!
B14: ='Feuille de travail CP'!B14 -> 0 | C14: ='Feuille de travail CP'!C14*100/'Feuille de travail CP'!B14 -> #DIV/0! | D14: ='Feuille de travail CP'!D14*100/'Feuille de travail CP'!B14 -> #DIV/0! | E14: =100-(C14+D14) -> #DIV/0! | F14: ='Feuille de travail CP'!E14*100/'Feuille de travail CP'!B14 -> #DIV/0! | G14: ='Feuille de travail CP'!F14*100/'Feuille de travail CP'!B14 -> #DIV/0! | H14: =100-(F14+G14) -> #DIV/0! | I14: ='Feuille de travail CP'!G14*100/'Feuille de travail CP'!B14 -> #DIV/0! | J14: ='Feuille de travail CP'!H14*100/'Feuille de travail CP'!B14 -> #DIV/0! | K14: =100-(I14+J14) -> #DIV/0! | L14: ='Feuille de travail CP'!I14*100/'Feuille de travail CP'!B14 -> #DIV/0! | M14: ='Feuille de travail CP'!J14*100/'Feuille de travail CP'!B14 -> #DIV/0! | N14: =100-(L14+M14) -> #DIV/0! | O14: ='Feuille de travail CP'!K14*100/'Feuille de travail CP'!B14 -> #DIV/0! | P14: ='Feuille de travail CP'!L14*100/'Feuille de travail CP'!B14 -> #DIV/0! | Q14: =100-(O14+P14) -> #DIV/0! | R14: ='Feuille de travail CP'!M14*100/'Feuille de travail CP'!B14 -> #DIV/0! | S14: ='Feuille de travail CP'!N14*100/'Feuille de travail CP'!B14 -> #DIV/0! | T14: =100-(R14+S14) -> #DIV/0! | U14: ='Feuille de travail CP'!O14*100/'Feuille de travail CP'!B14 -> #DIV/0! | V14: ='Feuille de travail CP'!P14*100/'Feuille de travail CP'!B14 -> #DIV/0! | W14: =100-(U14+V14) -> #DIV/0! | X14: ='Feuille de travail CP'!Q14*100/'Feuille de travail CP'!B14 -> #DIV/0! | Y14: ='Feuille de travail CP'!R14*100/'Feuille de travail CP'!B14 -> #DIV/0! | Z14: =100-(X14+Y14) -> #DIV/0!
B15: ='Feuille de travail CP'!B15 -> 0 | C15: ='Feuille de travail CP'!C15*100/'Feuille de travail CP'!B15 -> #DIV/0! | D15: ='Feuille de travail CP'!D15*100/'Feuille de travail CP'!B15 -> #DIV/0! | E15: =100-(C15+D15) -> #DIV/0! | F15: ='Feuille de travail CP'!E15*100/'Feuille de travail CP'!B15 -> #DIV/0! | G15: ='Feuille de travail CP'!F15*100/'Feuille de travail CP'!B15 -> #DIV/0! | H15: =100-(F15+G15) -> #DIV/0! | I15: ='Feuille de travail CP'!G15*100/'Feuille de travail CP'!B15 -> #DIV/0! | J15: ='Feuille de travail CP'!H15*100/'Feuille de travail CP'!B15 -> #DIV/0! | K15: =100-(I15+J15) -> #DIV/0! | L15: ='Feuille de travail CP'!I15*100/'Feuille de travail CP'!B15 -> #DIV/0! | M15: ='Feuille de travail CP'!J15*100/'Feuille de travail CP'!B15 -> #DIV/0! | N15: =100-(L15+M15) -> #DIV/0! | O15: ='Feuille de travail CP'!K15*100/'Feuille de travail CP'!B15 -> #DIV/0! | P15: ='Feuille de travail CP'!L15*100/'Feuille de travail CP'!B15 -> #DIV/0! | Q15: =100-(O15+P15) -> #DIV/0! | R15: ='Feuille de travail CP'!M15*100/'Feuille de travail CP'!B15 -> #DIV/0! | S15: ='Feuille de travail CP'!N15*100/'Feuille de travail CP'!B15 -> #DIV/0! | T15: =100-(R15+S15) -> #DIV/0! | U15: ='Feuille de travail CP'!O15*100/'Feuille de travail CP'!B15 -> #DIV/0! | V15: ='Feuille de travail CP'!P15*100/'Feuille de travail CP'!B15 -> #DIV/0! | W15: =100-(U15+V15) -> #DIV/0! | X15: ='Feuille de travail CP'!Q15*100/'Feuille de travail CP'!B15 -> #DIV/0! | Y15: ='Feuille de travail CP'!R15*100/'Feuille de travail CP'!B15 -> #DIV/0! | Z15: =100-(X15+Y15) -> #DIV/0!
A16: Total | B16: ='Feuille de travail CP'!B16 -> 0 | C16: ='Feuille de travail CP'!C16*100/'Feuille de travail CP'!B16 -> #DIV/0! | D16: ='Feuille de travail CP'!D16*100/'Feuille de travail CP'!B16 -> #DIV/0! | E16: =100-(C16+D16) -> #DIV/0! | F16: ='Feuille de travail CP'!E16*100/'Feuille de travail CP'!B16 -> #DIV/0! | G16: ='Feuille de travail CP'!F16*100/'Feuille de travail CP'!B16 -> #DIV/0! | H16: =100-(F16+G16) -> #DIV/0! | I16: ='Feuille de travail CP'!G16*100/'Feuille de travail CP'!B16 -> #DIV/0! | J16: ='Feuille de travail CP'!H16*100/'Feuille de travail CP'!B16 -> #DIV/0! | K16: =100-(I16+J16) -> #DIV/0! | L16: ='Feuille de travail CP'!I16*100/'Feuille de travail CP'!B16 -> #DIV/0! | M16: ='Feuille de travail CP'!J16*100/'Feuille de travail CP'!B16 -> #DIV/0! | N16: =100-(L16+M16) -> #DIV/0! | O16: ='Feuille de travail CP'!K16*100/'Feuille de travail CP'!B16 -> #DIV/0! | P16: ='Feuille de travail CP'!L16*100/'Feuille de travail CP'!B16 -> #DIV/0! | Q16: =100-(O16+P16) -> #DIV/0! | R16: ='Feuille de travail CP'!M16*100/'Feuille de travail CP'!B16 -> #DIV/0! | S16: ='Feuille de travail CP'!N16*100/'Feuille de travail CP'!B16 -> #DIV/0! | T16: =100-(R16+S16) -> #DIV/0! | U16: ='Feuille de travail CP'!O16*100/'Feuille de travail CP'!B16 -> #DIV/0! | V16: ='Feuille de travail CP'!P16*100/'Feuille de travail CP'!B16 -> #DIV/0! | W16: =100-(U16+V16) -> #DIV/0! | X16: ='Feuille de travail CP'!Q16*100/'Feuille de travail CP'!B16 -> #DIV/0! | Y16: ='Feuille de travail CP'!R16*100/'Feuille de travail CP'!B16 -> #DIV/0! | Z16: =100-(X16+Y16) -> #DIV/0!
C20: Ecrire des nombres entiers | F20: Lire des nombres entiers | I20: Résoudre des problèmes | L20: Quantifier des collections | O20: Comparer des nombres | R20: Associer un nombre à une position | U20: Reproduire un assemblage
A21: Classes | B21: Nombre total d'élèves ayant passé les évaluations | C21: % Groupe sous le seuil 1 (à besoin) | D21: % Groupe entre les seuils 1 et 2 (fragile) | E21: % Groupe au-dessus du seuil 2 | F21: % Groupe sous le seuil 1 (à besoin) | G21: % Groupe entre les seuils 1 et 2 (fragile) | H21: % Groupe au-dessus du seuil 2 | I21: % Groupe sous le seuil 1 (à besoin) | J21: % Groupe entre les seuils 1 et 2 (fragile) | K21: % Groupe au-dessus du seuil 2 | L21: % Groupe sous le seuil 1 (à besoin) | M21: % Groupe entre les seuils 1 et 2 (fragile) | N21: % Groupe au-dessus du seuil 2 | O21: % Groupe sous le seuil 1 (à besoin) | P21: % Groupe entre les seuils 1 et 2 (fragile) | Q21: % Groupe au-dessus du seuil 2 | R21: % Groupe sous le seuil 1 (à besoin) | S21: % Groupe entre les seuils 1 et 2 (fragile) | T21: % Groupe au-dessus du seuil 2 | U21: % Groupe sous le seuil 1 (à besoin) | V21: % Groupe entre les seuils 1 et 2 (fragile) | W21: % Groupe au-dessus du seuil 2
A22: CP A | B22: ='Feuille de travail CP'!B22 -> 0 | C22: ='Feuille de travail CP'!C22*100/'Feuille de travail CP'!B22 -> #DIV/0! | D22: ='Feuille de travail CP'!D22*100/'Feuille de travail CP'!B22 -> #DIV/0! | E22: =100-(C22+D22) -> #DIV/0! | F22: ='Feuille de travail CP'!E22*100/'Feuille de travail CP'!B22 -> #DIV/0! | G22: ='Feuille de travail CP'!F22*100/'Feuille de travail CP'!B22 -> #DIV/0! | H22: =100-(F22+G22) -> #DIV/0! | I22: ='Feuille de travail CP'!G22*100/'Feuille de travail CP'!B22 -> #DIV/0! | J22: ='Feuille de travail CP'!H22*100/'Feuille de travail CP'!B22 -> #DIV/0! | K22: =100-(I22+J22) -> #DIV/0! | L22: ='Feuille de travail CP'!I22*100/'Feuille de travail CP'!B22 -> #DIV/0! | M22: ='Feuille de travail CP'!J22*100/'Feuille de travail CP'!B22 -> #DIV/0! | N22: =100-(L22+M22) -> #DIV/0! | O22: ='Feuille de travail CP'!K22*100/'Feuille de travail CP'!B22 -> #DIV/0! | P22: ='Feuille de travail CP'!L22*100/'Feuille de travail CP'!B22 -> #DIV/0! | Q22: =100-(O22+P22) -> #DIV/0! | R22: ='Feuille de travail CP'!M22*100/'Feuille de travail CP'!B22 -> #DIV/0! | S22: ='Feuille de travail CP'!N22*100/'Feuille de travail CP'!B22 -> #DIV/0! | T22: =100-(R22+S22) -> #DIV/0! | U22: ='Feuille de travail CP'!O22*100/'Feuille de travail CP'!B22 -> #DIV/0! | V22: ='Feuille de travail CP'!P22*100/'Feuille de travail CP'!B22 -> #DIV/0! | W22: =100-(U22+V22) -> #DIV/0!
A23: CP B | B23: ='Feuille de travail CP'!B23 -> 0 | C23: ='Feuille de travail CP'!C23*100/'Feuille de travail CP'!B23 -> #DIV/0! | D23: ='Feuille de travail CP'!D23*100/'Feuille de travail CP'!B23 -> #DIV/0! | E23: =100-(C23+D23) -> #DIV/0! | F23: ='Feuille de travail CP'!E23*100/'Feuille de travail CP'!B23 -> #DIV/0! | G23: ='Feuille de travail CP'!F23*100/'Feuille de travail CP'!B23 -> #DIV/0! | H23: =100-(F23+G23) -> #DIV/0! | I23: ='Feuille de travail CP'!G23*100/'Feuille de travail CP'!B23 -> #DIV/0! | J23: ='Feuille de travail CP'!H23*100/'Feuille de travail CP'!B23 -> #DIV/0! | K23: =100-(I23+J23) -> #DIV/0! | L23: ='Feuille de travail CP'!I23*100/'Feuille de travail CP'!B23 -> #DIV/0! | M23: ='Feuille de travail CP'!J23*100/'Feuille de travail CP'!B23 -> #DIV/0! | N23: =100-(L23+M23) -> #DIV/0! | O23: ='Feuille de travail CP'!K23*100/'Feuille de travail CP'!B23 -> #DIV/0! | P23: ='Feuille de travail CP'!L23*100/'Feuille de travail CP'!B23 -> #DIV/0! | Q23: =100-(O23+P23) -> #DIV/0! | R23: ='Feuille de travail CP'!M23*100/'Feuille de travail CP'!B23 -> #DIV/0! | S23: ='Feuille de travail CP'!N23*100/'Feuille de travail CP'!B23 -> #DIV/0! | T23: =100-(R23+S23) -> #DIV/0! | U23: ='Feuille de travail CP'!O23*100/'Feuille de travail CP'!B23 -> #DIV/0! | V23: ='Feuille de travail CP'!P23*100/'Feuille de travail CP'!B23 -> #DIV/0! | W23: =100-(U23+V23) -> #DIV/0!
A24: CP C | B24: ='Feuille de travail CP'!B24 -> 0 | C24: ='Feuille de travail CP'!C24*100/'Feuille de travail CP'!B24 -> #DIV/0! | D24: ='Feuille de travail CP'!D24*100/'Feuille de travail CP'!B24 -> #DIV/0! | E24: =100-(C24+D24) -> #DIV/0! | F24: ='Feuille de travail CP'!E24*100/'Feuille de travail CP'!B24 -> #DIV/0! | G24: ='Feuille de travail CP'!F24*100/'Feuille de travail CP'!B24 -> #DIV/0! | H24: =100-(F24+G24) -> #DIV/0! | I24: ='Feuille de travail CP'!G24*100/'Feuille de travail CP'!B24 -> #DIV/0! | J24: ='Feuille de travail CP'!H24*100/'Feuille de travail CP'!B24 -> #DIV/0! | K24: =100-(I24+J24) -> #DIV/0! | L24: ='Feuille de travail CP'!I24*100/'Feuille de travail CP'!B24 -> #DIV/0! | M24: ='Feuille de travail CP'!J24*100/'Feuille de travail CP'!B24 -> #DIV/0! | N24: =100-(L24+M24) -> #DIV/0! | O24: ='Feuille de travail CP'!K24*100/'Feuille de travail CP'!B24 -> #DIV/0! | P24: ='Feuille de travail CP'!L24*100/'Feuille de travail CP'!B24 -> #DIV/0! | Q24: =100-(O24+P24) -> #DIV/0! | R24: ='Feuille de travail CP'!M24*100/'Feuille de travail CP'!B24 -> #DIV/0! | S24: ='Feuille de travail CP'!N24*100/'Feuille de travail CP'!B24 -> #DIV/0! | T24: =100-(R24+S24) -> #DIV/0! | U24: ='Feuille de travail CP'!O24*100/'Feuille de travail CP'!B24 -> #DIV/0! | V24: ='Feuille de travail CP'!P24*100/'Feuille de travail CP'!B24 -> #DIV/0! | W24: =100-(U24+V24) -> #DIV/0!
B25: ='Feuille de travail CP'!B25 -> 0 | C25: ='Feuille de travail CP'!C25*100/'Feuille de travail CP'!B25 -> #DIV/0! | D25: ='Feuille de travail CP'!D25*100/'Feuille de travail CP'!B25 -> #DIV/0! | E25: =100-(C25+D25) -> #DIV/0! | F25: ='Feuille de travail CP'!E25*100/'Feuille de travail CP'!B25 -> #DIV/0! | G25: ='Feuille de travail CP'!F25*100/'Feuille de travail CP'!B25 -> #DIV/0! | H25: =100-(F25+G25) -> #DIV/0! | I25: ='Feuille de travail CP'!G25*100/'Feuille de travail CP'!B25 -> #DIV/0! | J25: ='Feuille de travail CP'!H25*100/'Feuille de travail CP'!B25 -> #DIV/0! | K25: =100-(I25+J25) -> #DIV/0! | L25: ='Feuille de travail CP'!I25*100/'Feuille de travail CP'!B25 -> #DIV/0! | M25: ='Feuille de travail CP'!J25*100/'Feuille de travail CP'!B25 -> #DIV/0! | N25: =100-(L25+M25) -> #DIV/0! | O25: ='Feuille de travail CP'!K25*100/'Feuille de travail CP'!B25 -> #DIV/0! | P25: ='Feuille de travail CP'!L25*100/'Feuille de travail CP'!B25 -> #DIV/0! | Q25: =100-(O25+P25) -> #DIV/0! | R25: ='Feuille de travail CP'!M25*100/'Feuille de travail CP'!B25 -> #DIV/0! | S25: ='Feuille de travail CP'!N25*100/'Feuille de travail CP'!B25 -> #DIV/0! | T25: =100-(R25+S25) -> #DIV/0! | U25: ='Feuille de travail CP'!O25*100/'Feuille de travail CP'!B25 -> #DIV/0! | V25: ='Feuille de travail CP'!P25*100/'Feuille de travail CP'!B25 -> #DIV/0! | W25: =100-(U25+V25) -> #DIV/0!
B26: ='Feuille de travail CP'!B26 -> 0 | C26: ='Feuille de travail CP'!C26*100/'Feuille de travail CP'!B26 -> #DIV/0! | D26: ='Feuille de travail CP'!D26*100/'Feuille de travail CP'!B26 -> #DIV/0! | E26: =100-(C26+D26) -> #DIV/0! | F26: ='Feuille de travail CP'!E26*100/'Feuille de travail CP'!B26 -> #DIV/0! | G26: ='Feuille de travail CP'!F26*100/'Feuille de travail CP'!B26 -> #DIV/0! | H26: =100-(F26+G26) -> #DIV/0! | I26: ='Feuille de travail CP'!G26*100/'Feuille de travail CP'!B26 -> #DIV/0! | J26: ='Feuille de travail CP'!H26*100/'Feuille de travail CP'!B26 -> #DIV/0! | K26: =100-(I26+J26) -> #DIV/0! | L26: ='Feuille de travail CP'!I26*100/'Feuille de travail CP'!B26 -> #DIV/0! | M26: ='Feuille de travail CP'!J26*100/'Feuille de travail CP'!B26 -> #DIV/0! | N26: =100-(L26+M26) -> #DIV/0! | O26: ='Feuille de travail CP'!K26*100/'Feuille de travail CP'!B26 -> #DIV/0! | P26: ='Feuille de travail CP'!L26*100/'Feuille de travail CP'!B26 -> #DIV/0! | Q26: =100-(O26+P26) -> #DIV/0! | R26: ='Feuille de travail CP'!M26*100/'Feuille de travail CP'!B26 -> #DIV/0! | S26: ='Feuille de travail CP'!N26*100/'Feuille de travail CP'!B26 -> #DIV/0! | T26: =100-(R26+S26) -> #DIV/0! | U26: ='Feuille de travail CP'!O26*100/'Feuille de travail CP'!B26 -> #DIV/0! | V26: ='Feuille de travail CP'!P26*100/'Feuille de travail CP'!B26 -> #DIV/0! | W26: =100-(U26+V26) -> #DIV/0!
B27: ='Feuille de travail CP'!B27 -> 0 | C27: ='Feuille de travail CP'!C27*100/'Feuille de travail CP'!B27 -> #DIV/0! | D27: ='Feuille de travail CP'!D27*100/'Feuille de travail CP'!B27 -> #DIV/0! | E27: =100-(C27+D27) -> #DIV/0! | F27: ='Feuille de travail CP'!E27*100/'Feuille de travail CP'!B27 -> #DIV/0! | G27: ='Feuille de travail CP'!F27*100/'Feuille de travail CP'!B27 -> #DIV/0! | H27: =100-(F27+G27) -> #DIV/0! | I27: ='Feuille de travail CP'!G27*100/'Feuille de travail CP'!B27 -> #DIV/0! | J27: ='Feuille de travail CP'!H27*100/'Feuille de travail CP'!B27 -> #DIV/0! | K27: =100-(I27+J27) -> #DIV/0! | L27: ='Feuille de travail CP'!I27*100/'Feuille de travail CP'!B27 -> #DIV/0! | M27: ='Feuille de travail CP'!J27*100/'Feuille de travail CP'!B27 -> #DIV/0! | N27: =100-(L27+M27) -> #DIV/0! | O27: ='Feuille de travail CP'!K27*100/'Feuille de travail CP'!B27 -> #DIV/0! | P27: ='Feuille de travail CP'!L27*100/'Feuille de travail CP'!B27 -> #DIV/0! | Q27: =100-(O27+P27) -> #DIV/0! | R27: ='Feuille de travail CP'!M27*100/'Feuille de travail CP'!B27 -> #DIV/0! | S27: ='Feuille de travail CP'!N27*100/'Feuille de travail CP'!B27 -> #DIV/0! | T27: =100-(R27+S27) -> #DIV/0! | U27: ='Feuille de travail CP'!O27*100/'Feuille de travail CP'!B27 -> #DIV/0! | V27: ='Feuille de travail CP'!P27*100/'Feuille de travail CP'!B27 -> #DIV/0! | W27: =100-(U27+V27) -> #DIV/0!
B28: ='Feuille de travail CP'!B28 -> 0 | C28: ='Feuille de travail CP'!C28*100/'Feuille de travail CP'!B28 -> #DIV/0! | D28: ='Feuille de travail CP'!D28*100/'Feuille de travail CP'!B28 -> #DIV/0! | E28: =100-(C28+D28) -> #DIV/0! | F28: ='Feuille de travail CP'!E28*100/'Feuille de travail CP'!B28 -> #DIV/0! | G28: ='Feuille de travail CP'!F28*100/'Feuille de travail CP'!B28 -> #DIV/0! | H28: =100-(F28+G28) -> #DIV/0! | I28: ='Feuille de travail CP'!G28*100/'Feuille de travail CP'!B28 -> #DIV/0! | J28: ='Feuille de travail CP'!H28*100/'Feuille de travail CP'!B28 -> #DIV/0! | K28: =100-(I28+J28) -> #DIV/0! | L28: ='Feuille de travail CP'!I28*100/'Feuille de travail CP'!B28 -> #DIV/0! | M28: ='Feuille de travail CP'!J28*100/'Feuille de travail CP'!B28 -> #DIV/0! | N28: =100-(L28+M28) -> #DIV/0! | O28: ='Feuille de travail CP'!K28*100/'Feuille de travail CP'!B28 -> #DIV/0! | P28: ='Feuille de travail CP'!L28*100/'Feuille de travail CP'!B28 -> #DIV/0! | Q28: =100-(O28+P28) -> #DIV/0! | R28: ='Feuille de travail CP'!M28*100/'Feuille de travail CP'!B28 -> #DIV/0! | S28: ='Feuille de travail CP'!N28*100/'Feuille de travail CP'!B28 -> #DIV/0! | T28: =100-(R28+S28) -> #DIV/0! | U28: ='Feuille de travail CP'!O28*100/'Feuille de travail CP'!B28 -> #DIV/0! | V28: ='Feuille de travail CP'!P28*100/'Feuille de travail CP'!B28 -> #DIV/0! | W28: =100-(U28+V28) -> #DIV/0!
B29: ='Feuille de travail CP'!B29 -> 0 | C29: ='Feuille de travail CP'!C29*100/'Feuille de travail CP'!B29 -> #DIV/0! | D29: ='Feuille de travail CP'!D29*100/'Feuille de travail CP'!B29 -> #DIV/0! | E29: =100-(C29+D29) -> #DIV/0! | F29: ='Feuille de travail CP'!E29*100/'Feuille de travail CP'!B29 -> #DIV/0! | G29: ='Feuille de travail CP'!F29*100/'Feuille de travail CP'!B29 -> #DIV/0! | H29: =100-(F29+G29) -> #DIV/0! | I29: ='Feuille de travail CP'!G29*100/'Feuille de travail CP'!B29 -> #DIV/0! | J29: ='Feuille de travail CP'!H29*100/'Feuille de travail CP'!B29 -> #DIV/0! | K29: =100-(I29+J29) -> #DIV/0! | L29: ='Feuille de travail CP'!I29*100/'Feuille de travail CP'!B29 -> #DIV/0! | M29: ='Feuille de travail CP'!J29*100/'Feuille de travail CP'!B29 -> #DIV/0! | N29: =100-(L29+M29) -> #DIV/0! | O29: ='Feuille de travail CP'!K29*100/'Feuille de travail CP'!B29 -> #DIV/0! | P29: ='Feuille de travail CP'!L29*100/'Feuille de travail CP'!B29 -> #DIV/0! | Q29: =100-(O29+P29) -> #DIV/0! | R29: ='Feuille de travail CP'!M29*100/'Feuille de travail CP'!B29 -> #DIV/0! | S29: ='Feuille de travail CP'!N29*100/'Feuille de travail CP'!B29 -> #DIV/0! | T29: =100-(R29+S29) -> #DIV/0! | U29: ='Feuille de travail CP'!O29*100/'Feuille de travail CP'!B29 -> #DIV/0! | V29: ='Feuille de travail CP'!P29*100/'Feuille de travail CP'!B29 -> #DIV/0! | W29: =100-(U29+V29) -> #DIV/0!
A30: Total | B30: ='Feuille de travail CP'!B30 -> 0 | C30: ='Feuille de travail CP'!C30*100/'Feuille de travail CP'!B30 -> #DIV/0! | D30: ='Feuille de travail CP'!D30*100/'Feuille de travail CP'!B30 -> #DIV/0! | E30: =100-(C30+D30) -> #DIV/0! | F30: ='Feuille de travail CP'!E30*100/'Feuille de travail CP'!B30 -> #DIV/0! | G30: ='Feuille de travail CP'!F30*100/'Feuille de travail CP'!B30 -> #DIV/0! | H30: =100-(F30+G30) -> #DIV/0! | I30: ='Feuille de travail CP'!G30*100/'Feuille de travail CP'!B30 -> #DIV/0! | J30: ='Feuille de travail CP'!H30*100/'Feuille de travail CP'!B30 -> #DIV/0! | K30: =100-(I30+J30) -> #DIV/0! | L30: ='Feuille de travail CP'!I30*100/'Feuille de travail CP'!B30 -> #DIV/0! | M30: ='Feuille de travail CP'!J30*100/'Feuille de travail CP'!B30 -> #DIV/0! | N30: =100-(L30+M30) -> #DIV/0! | O30: ='Feuille de travail CP'!K30*100/'Feuille de travail CP'!B30 -> #DIV/0! | P30: ='Feuille de travail CP'!L30*100/'Feuille de travail CP'!B30 -> #DIV/0! | Q30: =100-(O30+P30) -> #DIV/0! | R30: ='Feuille de travail CP'!M30*100/'Feuille de travail CP'!B30 -> #DIV/0! | S30: ='Feuille de travail CP'!N30*100/'Feuille de travail CP'!B30 -> #DIV/0! | T30: =100-(R30+S30) -> #DIV/0! | U30: ='Feuille de travail CP'!O30*100/'Feuille de travail CP'!B30 -> #DIV/0! | V30: ='Feuille de travail CP'!P30*100/'Feuille de travail CP'!B30 -> #DIV/0! | W30: =100-(U30+V30) -> #DIV/0!

Sheet Résultats CE1
C6: Comprendre des mots lus par l'enseignant | F6: Comprendre des phrases lues par l'enseignant | I6: Ecrire des syllabes simples et complexes | L6: Ecrire des mots | O6: Comprendre des phrases lues seul | R6: Comprendre un texte lu seul | U6: Lire à voix haute des mots | X6: Lire à voix haute un texte
A7: Classes | B7: Nombre total d'élèves ayant passé les évaluations | C7: % Groupe sous le seuil 1 (à besoin) | D7: % Groupe entre les seuils 1 et 2 (fragile) | E7: % Groupe au-dessus du seuil 2 | F7: % Groupe sous le seuil 1 (à besoin) | G7: % Groupe entre les seuils 1 et 2 (fragile) | H7: % Groupe au-dessus du seuil 2 | I7: % Groupe sous le seuil 1 (à besoin) | J7: % Groupe entre les seuils 1 et 2 (fragile) | K7: % Groupe au-dessus du seuil 2 | L7: % Groupe sous le seuil 1 (à besoin) | M7: % Groupe entre les seuils 1 et 2 (fragile) | N7: % Groupe au-dessus du seuil 2 | O7: % Groupe sous le seuil 1 (à besoin) | P7: % Groupe entre les seuils 1 et 2 (fragile) | Q7: % Groupe au-dessus du seuil 2 | R7: % Groupe sous le seuil 1 (à besoin) | S7: % Groupe entre les seuils 1 et 2 (fragile) | T7: % Groupe au-dessus du seuil 2 | U7: % Groupe sous le seuil 1 (à besoin) | V7: % Groupe entre les seuils 1 et 2 (fragile) | W7: % Groupe au-dessus du seuil 2 | X7: % Groupe sous le seuil 1 (à besoin) | Y7: % Groupe entre les seuils 1 et 2 (fragile) | Z7: % Groupe au-dessus du seuil 2
A8: CE1 A | B8: ='Feuille de travail CE1'!B8 -> 0 | C8: ='Feuille de travail CE1'!C8*100/'Feuille de travail CE1'!B8 -> #DIV/0! | D8: ='Feuille de travail CE1'!D8*100/'Feuille de travail CE1'!B8 -> #DIV/0! | E8: =100-(C8+D8) -> #DIV/0! | F8: ='Feuille de travail CE1'!E8*100/'Feuille de travail CE1'!B8 -> #DIV/0! | G8: ='Feuille de travail CE1'!F8*100/'Feuille de travail CE1'!B8 -> #DIV/0! | H8: =100-(F8+G8) -> #DIV/0! | I8: ='Feuille de travail CE1'!G8*100/'Feuille de travail CE1'!B8 -> #DIV/0! | J8: ='Feuille de travail CE1'!H8*100/'Feuille de travail CE1'!B8 -> #DIV/0! | K8: =100-(I8+J8) -> #DIV/0! | L8: ='Feuille de travail CE1'!I8*100/'Feuille de travail CE1'!B8 -> #DIV/0! | M8: ='Feuille de travail CE1'!J8*100/'Feuille de travail CE1'!B8 -> #DIV/0! | N8: =100-(L8+M8) -> #DIV/0! | O8: ='Feuille de travail CE1'!K8*100/'Feuille de travail CE1'!B8 -> #DIV/0! | P8: ='Feuille de travail CE1'!L8*100/'Feuille de travail CE1'!B8 -> #DIV/0! | Q8: =100-(O8+P8) -> #DIV/0! | R8: ='Feuille de travail CE1'!M8*100/'Feuille de travail CE1'!B8 -> #DIV/0! | S8: ='Feuille de travail CE1'!N8*100/'Feuille de travail CE1'!B8 -> #DIV/0! | T8: =100-(R8+S8) -> #DIV/0! | U8: ='Feuille de travail CE1'!O8*100/'Feuille de travail CE1'!B8 -> #DIV/0! | V8: ='Feuille de travail CE1'!P8*100/'Feuille de travail CE1'!B8 -> #DIV/0! | W8: =100-(U8+V8) -> #DIV/0! | X8: ='Feuille de travail CE1'!Q8*100/'Feuille de travail CE1'!B8 -> #DIV/0! | Y8: ='Feuille de travail CE1'!R8*100/'Feuille de travail CE1'!B8 -> #DIV/0! | Z8: =100-(X8+Y8) -> #DIV/0!
A9: CE1 B | B9: ='Feuille de travail CE1'!B9 -> 0 | C9: ='Feuille de travail CE1'!C9*100/'Feuille de travail CE1'!B9 -> #DIV/0! | D9: ='Feuille de travail CE1'!D9*100/'Feuille de travail CE1'!B9 -> #DIV/0! | E9: =100-(C9+D9) -> #DIV/0! | F9: ='Feuille de travail CE1'!E9*100/'Feuille de travail CE1'!B9 -> #DIV/0! | G9: ='Feuille de travail CE1'!F9*100/'Feuille de travail CE1'!B9 -> #DIV/0! | H9: =100-(F9+G9) -> #DIV/0! | I9: ='Feuille de travail CE1'!G9*100/'Feuille de travail CE1'!B9 -> #DIV/0! | J9: ='Feuille de travail CE1'!H9*100/'Feuille de travail CE1'!B9 -> #DIV/0! | K9: =100-(I9+J9) -> #DIV/0! | L9: ='Feuille de travail CE1'!I9*100/'Feuille de travail CE1'!B9 -> #DIV/0! | M9: ='Feuille de travail CE1'!J9*100/'Feuille de travail CE1'!B9 -> #DIV/0! | N9: =100-(L9+M9) -> #DIV/0! | O9: ='Feuille de travail CE1'!K9*100/'Feuille de travail CE1'!B9 -> #DIV/0! | P9: ='Feuille de travail CE1'!L9*100/'Feuille de travail CE1'!B9 -> #DIV/0! | Q9: =100-(O9+P9) -> #DIV/0! | R9: ='Feuille de travail CE1'!M9*100/'Feuille de travail CE1'!B9 -> #DIV/0! | S9: ='Feuille de travail CE1'!N9*100/'Feuille de travail CE1'!B9 -> #DIV/0! | T9: =100-(R9+S9) -> #DIV/0! | U9: ='Feuille de travail CE1'!O9*100/'Feuille de travail CE1'!B9 -> #DIV/0! | V9: ='Feuille de travail CE1'!P9*100/'Feuille de travail CE1'!B9 -> #DIV/0! | W9: =100-(U9+V9) -> #DIV/0! | X9: ='Feuille de travail CE1'!Q9*100/'Feuille de travail CE1'!B9 -> #DIV/0! | Y9: ='Feuille de travail CE1'!R9*100/'Feuille de travail CE1'!B9 -> #DIV/0! | Z9: =100-(X9+Y9) -> #DIV/0!
A10: CE1 C | B10: ='Feuille de travail CE1'!B10 -> 0 | C10: ='Feuille de travail CE1'!C10*100/'Feuille de travail CE1'!B10 -> #DIV/0! | D10: ='Feuille de travail CE1'!D10*100/'Feuille de travail CE1'!B10 -> #DIV/0! | E10: =100-(C10+D10) -> #DIV/0! | F10: ='Feuille de travail CE1'!E10*100/'Feuille de travail CE1'!B10 -> #DIV/0! | G10: ='Feuille de travail CE1'!F10*100/'Feuille de travail CE1'!B10 -> #DIV/0! | H10: =100-(F10+G10) -> #DIV/0! | I10: ='Feuille de travail CE1'!G10*100/'Feuille de travail CE1'!B10 -> #DIV/0! | J10: ='Feuille de travail CE1'!H10*100/'Feuille de travail CE1'!B10 -> #DIV/0! | K10: =100-(I10+J10) -> #DIV/0! | L10: ='Feuille de travail CE1'!I10*100/'Feuille de travail CE1'!B10 -> #DIV/0! | M10: ='Feuille de travail CE1'!J10*100/'Feuille de travail CE1'!B10 -> #DIV/0! | N10: =100-(L10+M10) -> #DIV/0! | O10: ='Feuille de travail CE1'!K10*100/'Feuille de travail CE1'!B10 -> #DIV/0! | P10: ='Feuille de travail CE1'!L10*100/'Feuille de travail CE1'!B10 -> #DIV/0! | Q10: =100-(O10+P10) -> #DIV/0! | R10: ='Feuille de travail CE1'!M10*100/'Feuille de travail CE1'!B10 -> #DIV/0! | S10: ='Feuille de travail CE1'!N10*100/'Feuille de travail CE1'!B10 -> #DIV/0! | T10: =100-(R10+S10) -> #DIV/0! | U10: ='Feuille de travail CE1'!O10*100/'Feuille de travail CE1'!B10 -> #DIV/0! | V10: ='Feuille de travail CE1'!P10*100/'Feuille de travail CE1'!B10 -> #DIV/0! | W10: =100-(U10+V10) -> #DIV/0! | X10: ='Feuille de travail CE1'!Q10*100/'Feuille de travail CE1'!B10 -> #DIV/0! | Y10: ='Feuille de travail CE1'!R10*100/'Feuille de travail CE1'!B10 -> #DIV/0! | Z10: =100-(X10+Y10) -> #DIV/0!
B11: ='Feuille de travail CE1'!B11 -> 0 | C11: ='Feuille de travail CE1'!C11*100/'Feuille de travail CE1'!B11 -> #DIV/0! | D11: ='Feuille de travail CE1'!D11*100/'Feuille de travail CE1'!B11 -> #DIV/0! | E11: =100-(C11+D11) -> #DIV/0! | F11: ='Feuille de travail CE1'!E11*100/'Feuille de travail CE1'!B11 -> #DIV/0! | G11: ='Feuille de travail CE1'!F11*100/'Feuille de travail CE1'!B11 -> #DIV/0! | H11: =100-(F11+G11) -> #DIV/0! | I11: ='Feuille de travail CE1'!G11*100/'Feuille de travail CE1'!B11 -> #DIV/0! | J11: ='Feuille de travail CE1'!H11*100/'Feuille de travail CE1'!B11 -> #DIV/0! | K11: =100-(I11+J11) -> #DIV/0! | L11: ='Feuille de travail CE1'!I11*100/'Feuille de travail CE1'!B11 -> #DIV/0! | M11: ='Feuille de travail CE1'!J11*100/'Feuille de travail CE1'!B11 -> #DIV/0! | N11: =100-(L11+M11) -> #DIV/0! | O11: ='Feuille de travail CE1'!K11*100/'Feuille de travail CE1'!B11 -> #DIV/0! | P11: ='Feuille de travail CE1'!L11*100/'Feuille de travail CE1'!B11 -> #DIV/0! | Q11: =100-(O11+P11) -> #DIV/0! | R11: ='Feuille de travail CE1'!M11*100/'Feuille de travail CE1'!B11 -> #DIV/0! | S11: ='Feuille de travail CE1'!N11*100/'Feuille de travail CE1'!B11 -> #DIV/0! | T11: =100-(R11+S11) -> #DIV/0! | U11: ='Feuille de travail CE1'!O11*100/'Feuille de travail CE1'!B11 -> #DIV/0! | V11: ='Feuille de travail CE1'!P11*100/'Feuille de travail CE1'!B11 -> #DIV/0! | W11: =100-(U11+V11) -> #DIV/0! | X11: ='Feuille de travail CE1'!Q11*100/'Feuille de travail CE1'!B11 -> #DIV/0! | Y11: ='Feuille de travail CE1'!R11*100/'Feuille de travail CE1'!B11 -> #DIV/0! | Z11: =100-(X11+Y11) -> #DIV/0!
B12: ='Feuille de travail CE1'!B12 -> 0 | C12: ='Feuille de travail CE1'!C12*100/'Feuille de travail CE1'!B12 -> #DIV/0! | D12: ='Feuille de travail CE1'!D12*100/'Feuille de travail CE1'!B12 -> #DIV/0! | E12: =100-(C12+D12) -> #DIV/0! | F12: ='Feuille de travail CE1'!E12*100/'Feuille de travail CE1'!B12 -> #DIV/0! | G12: ='Feuille de travail CE1'!F12*100/'Feuille de travail CE1'!B12 -> #DIV/0! | H12: =100-(F12+G12) -> #DIV/0! | I12: ='Feuille de travail CE1'!G12*100/'Feuille de travail CE1'!B12 -> #DIV/0! | J12: ='Feuille de travail CE1'!H12*100/'Feuille de travail CE1'!B12 -> #DIV/0! | K12: =100-(I12+J12) -> #DIV/0! | L12: ='Feuille de travail CE1'!I12*100/'Feuille de travail CE1'!B12 -> #DIV/0! | M12: ='Feuille de travail CE1'!J12*100/'Feuille de travail CE1'!B12 -> #DIV/0! | N12: =100-(L12+M12) -> #DIV/0! | O12: ='Feuille de travail CE1'!K12*100/'Feuille de travail CE1'!B12 -> #DIV/0! | P12: ='Feuille de travail CE1'!L12*100/'Feuille de travail CE1'!B12 -> #DIV/0! | Q12: =100-(O12+P12) -> #DIV/0! | R12: ='Feuille de travail CE1'!M12*100/'Feuille de travail CE1'!B12 -> #DIV/0! | S12: ='Feuille de travail CE1'!N12*100/'Feuille de travail CE1'!B12 -> #DIV/0! | T12: =100-(R12+S12) -> #DIV/0! | U12: ='Feuille de travail CE1'!O12*100/'Feuille de travail CE1'!B12 -> #DIV/0! | V12: ='Feuille de travail CE1'!P12*100/'Feuille de travail CE1'!B12 -> #DIV/0! | W12: =100-(U12+V12) -> #DIV/0! | X12: ='Feuille de travail CE1'!Q12*100/'Feuille de travail CE1'!B12 -> #DIV/0! | Y12: ='Feuille de travail CE1'!R12*100/'Feuille de travail CE1'!B12 -> #DIV/0! | Z12: =100-(X12+Y12) -> #DIV/0!
B13: ='Feuille de travail CE1'!B13 -> 0 | C13: ='Feuille de travail CE1'!C13*100/'Feuille de travail CE1'!B13 -> #DIV/0! | D13: ='Feuille de travail CE1'!D13*100/'Feuille de travail CE1'!B13 -> #DIV/0! | E13: =100-(C13+D13) -> #DIV/0! | F13: ='Feuille de travail CE1'!E13*100/'Feuille de travail CE1'!B13 -> #DIV/0! | G13: ='Feuille de travail CE1'!F13*100/'Feuille de travail CE1'!B13 -> #DIV/0! | H13: =100-(F13+G13) -> #DIV/0! | I13: ='Feuille de travail CE1'!G13*100/'Feuille de travail CE1'!B13 -> #DIV/0! | J13: ='Feuille de travail CE1'!H13*100/'Feuille de travail CE1'!B13 -> #DIV/0! | K13: =100-(I13+J13) -> #DIV/0! | L13: ='Feuille de travail CE1'!I13*100/'Feuille de travail CE1'!B13 -> #DIV/0! | M13: ='Feuille de travail CE1'!J13*100/'Feuille de travail CE1'!B13 -> #DIV/0! | N13: =100-(L13+M13) -> #DIV/0! | O13: ='Feuille de travail CE1'!K13*100/'Feuille de travail CE1'!B13 -> #DIV/0! | P13: ='Feuille de travail CE1'!L13*100/'Feuille de travail CE1'!B13 -> #DIV/0! | Q13: =100-(O13+P13) -> #DIV/0! | R13: ='Feuille de travail CE1'!M13*100/'Feuille de travail CE1'!B13 -> #DIV/0! | S13: ='Feuille de travail CE1'!N13*100/'Feuille de travail CE1'!B13 -> #DIV/0! | T13: =100-(R13+S13) -> #DIV/0! | U13: ='Feuille de travail CE1'!O13*100/'Feuille de travail CE1'!B13 -> #DIV/0! | V13: ='Feuille de travail CE1'!P13*100/'Feuille de travail CE1'!B13 -> #DIV/0! | W13: =100-(U13+V13) -> #DIV/0! | X13: ='Feuille de travail CE1'!Q13*100/'Feuille de travail CE1'!B13 -> #DIV/0! | Y13: ='Feuille de travail CE1'!R13*100/'Feuille de travail CE1'!B13 -> #DIV/0! | Z13: =100-(X13+Y13) -> #DIV/0!
B14: ='Feuille de travail CE1'!B14 -> 0 | C14: ='Feuille de travail CE1'!C14*100/'Feuille de travail CE1'!B14 -> #DIV/0! | D14: ='Feuille de travail CE1'!D14*100/'Feuille de travail CE1'!B14 -> #DIV/0! | E14: =100-(C14+D14) -> #DIV/0! | F14: ='Feuille de travail CE1'!E14*100/'Feuille de travail CE1'!B14 -> #DIV/0! | G14: ='Feuille de travail CE1'!F14*100/'Feuille de travail CE1'!B14 -> #DIV/0! | H14: =100-(F14+G14) -> #DIV/0! | I14: ='Feuille de travail CE1'!G14*100/'Feuille de travail CE1'!B14 -> #DIV/0! | J14: ='Feuille de travail CE1'!H14*100/'Feuille de travail CE1'!B14 -> #DIV/0! | K14: =100-(I14+J14) -> #DIV/0! | L14: ='Feuille de travail CE1'!I14*100/'Feuille de travail CE1'!B14 -> #DIV/0! | M14: ='Feuille de travail CE1'!J14*100/'Feuille de travail CE1'!B14 -> #DIV/0! | N14: =100-(L14+M14) -> #DIV/0! | O14: ='Feuille de travail CE1'!K14*100/'Feuille de travail CE1'!B14 -> #DIV/0! | P14: ='Feuille de travail CE1'!L14*100/'Feuille de travail CE1'!B14 -> #DIV/0! | Q14: =100-(O14+P14) -> #DIV/0! | R14: ='Feuille de travail CE1'!M14*100/'Feuille de travail CE1'!B14 -> #DIV/0! | S14: ='Feuille de travail CE1'!N14*100/'Feuille de travail CE1'!B14 -> #DIV/0! | T14: =100-(R14+S14) -> #DIV/0! | U14: ='Feuille de travail CE1'!O14*100/'Feuille de travail CE1'!B14 -> #DIV/0! | V14: ='Feuille de travail CE1'!P14*100/'Feuille de travail CE1'!B14 -> #DIV/0! | W14: =100-(U14+V14) -> #DIV/0! | X14: ='Feuille de travail CE1'!Q14*100/'Feuille de travail CE1'!B14 -> #DIV/0! | Y14: ='Feuille de travail CE1'!R14*100/'Feuille de travail CE1'!B14 -> #DIV/0! | Z14: =100-(X14+Y14) -> #DIV/0!
B15: ='Feuille de travail CE1'!B15 -> 0 | C15: ='Feuille de travail CE1'!C15*100/'Feuille de travail CE1'!B15 -> #DIV/0! | D15: ='Feuille de travail CE1'!D15*100/'Feuille de travail CE1'!B15 -> #DIV/0! | E15: =100-(C15+D15) -> #DIV/0! | F15: ='Feuille de travail CE1'!E15*100/'Feuille de travail CE1'!B15 -> #DIV/0! | G15: ='Feuille de travail CE1'!F15*100/'Feuille de travail CE1'!B15 -> #DIV/0! | H15: =100-(F15+G15) -> #DIV/0! | I15: ='Feuille de travail CE1'!G15*100/'Feuille de travail CE1'!B15 -> #DIV/0! | J15: ='Feuille de travail CE1'!H15*100/'Feuille de travail CE1'!B15 -> #DIV/0! | K15: =100-(I15+J15) -> #DIV/0! | L15: ='Feuille de travail CE1'!I15*100/'Feuille de travail CE1'!B15 -> #DIV/0! | M15: ='Feuille de travail CE1'!J15*100/'Feuille de travail CE1'!B15 -> #DIV/0! | N15: =100-(L15+M15) -> #DIV/0! | O15: ='Feuille de travail CE1'!K15*100/'Feuille de travail CE1'!B15 -> #DIV/0! | P15: ='Feuille de travail CE1'!L15*100/'Feuille de travail CE1'!B15 -> #DIV/0! | Q15: =100-(O15+P15) -> #DIV/0! | R15: ='Feuille de travail CE1'!M15*100/'Feuille de travail CE1'!B15 -> #DIV/0! | S15: ='Feuille de travail CE1'!N15*100/'Feuille de travail CE1'!B15 -> #DIV/0! | T15: =100-(R15+S15) -> #DIV/0! | U15: ='Feuille de travail CE1'!O15*100/'Feuille de travail CE1'!B15 -> #DIV/0! | V15: ='Feuille de travail CE1'!P15*100/'Feuille de travail CE1'!B15 -> #DIV/0! | W15: =100-(U15+V15) -> #DIV/0! | X15: ='Feuille de travail CE1'!Q15*100/'Feuille de travail CE1'!B15 -> #DIV/0! | Y15: ='Feuille de travail CE1'!R15*100/'Feuille de travail CE1'!B15 -> #DIV/0! | Z15: =100-(X15+Y15) -> #DIV/0!
A16: Total | B16: ='Feuille de travail CE1'!B16 -> 0 | C16: ='Feuille de travail CE1'!C16*100/'Feuille de travail CE1'!B16 -> #DIV/0! | D16: ='Feuille de travail CE1'!D16*100/'Feuille de travail CE1'!B16 -> #DIV/0! | E16: =100-(C16+D16) -> #DIV/0! | F16: ='Feuille de travail CE1'!E16*100/'Feuille de travail CE1'!B16 -> #DIV/0! | G16: ='Feuille de travail CE1'!F16*100/'Feuille de travail CE1'!B16 -> #DIV/0! | H16: =100-(F16+G16) -> #DIV/0! | I16: ='Feuille de travail CE1'!G16*100/'Feuille de travail CE1'!B16 -> #DIV/0! | J16: ='Feuille de travail CE1'!H16*100/'Feuille de travail CE1'!B16 -> #DIV/0! | K16: =100-(I16+J16) -> #DIV/0! | L16: ='Feuille de travail CE1'!I16*100/'Feuille de travail CE1'!B16 -> #DIV/0! | M16: ='Feuille de travail CE1'!J16*100/'Feuille de travail CE1'!B16 -> #DIV/0! | N16: =100-(L16+M16) -> #DIV/0! | O16: ='Feuille de travail CE1'!K16*100/'Feuille de travail CE1'!B16 -> #DIV/0! | P16: ='Feuille de travail CE1'!L16*100/'Feuille de travail CE1'!B16 -> #DIV/0! | Q16: =100-(O16+P16) -> #DIV/0! | R16: ='Feuille de travail CE1'!M16*100/'Feuille de travail CE1'!B16 -> #DIV/0! | S16: ='Feuille de travail CE1'!N16*100/'Feuille de travail CE1'!B16 -> #DIV/0! | T16: =100-(R16+S16) -> #DIV/0! | U16: ='Feuille de travail CE1'!O16*100/'Feuille de travail CE1'!B16 -> #DIV/0! | V16: ='Feuille de travail CE1'!P16*100/'Feuille de travail CE1'!B16 -> #DIV/0! | W16: =100-(U16+V16) -> #DIV/0! | X16: ='Feuille de travail CE1'!Q16*100/'Feuille de travail CE1'!B16 -> #DIV/0! | Y16: ='Feuille de travail CE1'!R16*100/'Feuille de travail CE1'!B16 -> #DIV/0! | Z16: =100-(X16+Y16) -> #DIV/0!
C20: Reproduire un assemblage | F20: Associer un nombre à une position | I20: Additionner | L20: Soustraire | O20: Calculer mentalement | R20: Ecrire des nombres entiers | U20: Lire des nombres entiers | X20: Représenter des nombres entiers | AA20: Résoudre des problèmes
A21: Classes | B21: Nombre total d'élèves ayant passé les évaluations | C21: % Groupe sous le seuil 1 (à besoin) | D21: % Groupe entre les seuils 1 et 2 (fragile) | E21: % Groupe au-dessus du seuil 2 | F21: % Groupe sous le seuil 1 (à besoin) | G21: % Groupe entre les seuils 1 et 2 (fragile) | H21: % Groupe au-dessus du seuil 2 | I21: % Groupe sous le seuil 1 (à besoin) | J21: % Groupe entre les seuils 1 et 2 (fragile) | K21: % Groupe au-dessus du seuil 2 | L21: % Groupe sous le seuil 1 (à besoin) | M21: % Groupe entre les seuils 1 et 2 (fragile) | N21: % Groupe au-dessus du seuil 2 | O21: % Groupe sous le seuil 1 (à besoin) | P21: % Groupe entre les seuils 1 et 2 (fragile) | Q21: % Groupe au-dessus du seuil 2 | R21: % Groupe sous le seuil 1 (à besoin) | S21: % Groupe entre les seuils 1 et 2 (fragile) | T21: % Groupe au-dessus du seuil 2 | U21: % Groupe sous le seuil 1 (à besoin) | V21: % Groupe entre les seuils 1 et 2 (fragile) | W21: % Groupe au-dessus du seuil 2 | X21: % Groupe sous le seuil 1 (à besoin) | Y21: % Groupe entre les seuils 1 et 2 (fragile) | Z21: % Groupe au-dessus du seuil 2 | AA21: % Groupe sous le seuil 1 (à besoin) | AB21: % Groupe entre les seuils 1 et 2 (fragile) | AC21: % Groupe au-dessus du seuil 2
A22: CE1 A | B22: ='Feuille de travail CE1'!B22 -> 0 | C22: ='Feuille de travail CE1'!C22*100/'Feuille de travail CE1'!B22 -> #DIV/0! | D22: ='Feuille de travail CE1'!D22*100/'Feuille de travail CE1'!B22 -> #DIV/0! | E22: =100-(C22+D22) -> #DIV/0! | F22: ='Feuille de travail CE1'!E22*100/'Feuille de travail CE1'!B22 -> #DIV/0! | G22: ='Feuille de travail CE1'!F22*100/'Feuille de travail CE1'!B22 -> #DIV/0! | H22: =100-(F22+G22) -> #DIV/0! | I22: ='Feuille de travail CE1'!G22*100/'Feuille de travail CE1'!B22 -> #DIV/0! | J22: ='Feuille de travail CE1'!H22*100/'Feuille de travail CE1'!B22 -> #DIV/0! | K22: =100-(I22+J22) -> #DIV/0! | L22: ='Feuille de travail CE1'!I22*100/'Feuille de travail CE1'!B22 -> #DIV/0! | M22: ='Feuille de travail CE1'!J22*100/'Feuille de travail CE1'!B22 -> #DIV/0! | N22: =100-(L22+M22) -> #DIV/0! | O22: ='Feuille de travail CE1'!K22*100/'Feuille de travail CE1'!B22 -> #DIV/0! | P22: ='Feuille de travail CE1'!L22*100/'Feuille de travail CE1'!B22 -> #DIV/0! | Q22: =100-(O22+P22) -> #DIV/0! | R22: ='Feuille de travail CE1'!M22*100/'Feuille de travail CE1'!B22 -> #DIV/0! | S22: ='Feuille de travail CE1'!N22*100/'Feuille de travail CE1'!B22 -> #DIV/0! | T22: =100-(R22+S22) -> #DIV/0! | U22: ='Feuille de travail CE1'!O22*100/'Feuille de travail CE1'!B22 -> #DIV/0! | V22: ='Feuille de travail CE1'!P22*100/'Feuille de travail CE1'!B22 -> #DIV/0! | W22: =100-(U22+V22) -> #DIV/0! | X22: ='Feuille de travail CE1'!Q22*100/'Feuille de travail CE1'!B22 -> #DIV/0! | Y22: ='Feuille de travail CE1'!R22*100/'Feuille de travail CE1'!B22 -> #DIV/0! | Z22: =100-(X22+Y22) -> #DIV/0! | AA22: ='Feuille de travail CE1'!S22*100/'Feuille de travail CE1'!B22 -> #DIV/0! | AB22: ='Feuille de travail CE1'!T22*100/'Feuille de travail CE1'!B22 -> #DIV/0! | AC22: =100-(AA22+AB22) -> #DIV/0!
A23: CE1 B | B23: ='Feuille de travail CE1'!B23 -> 0 | C23: ='Feuille de travail CE1'!C23*100/'Feuille de travail CE1'!B23 -> #DIV/0! | D23: ='Feuille de travail CE1'!D23*100/'Feuille de travail CE1'!B23 -> #DIV/0! | E23: =100-(C23+D23) -> #DIV/0! | F23: ='Feuille de travail CE1'!E23*100/'Feuille de travail CE1'!B23 -> #DIV/0! | G23: ='Feuille de travail CE1'!F23*100/'Feuille de travail CE1'!B23 -> #DIV/0! | H23: =100-(F23+G23) -> #DIV/0! | I23: ='Feuille de travail CE1'!G23*100/'Feuille de travail CE1'!B23 -> #DIV/0! | J23: ='Feuille de travail CE1'!H23*100/'Feuille de travail CE1'!B23 -> #DIV/0! | K23: =100-(I23+J23) -> #DIV/0! | L23: ='Feuille de travail CE1'!I23*100/'Feuille de travail CE1'!B23 -> #DIV/0! | M23: ='Feuille de travail CE1'!J23*100/'Feuille de travail CE1'!B23 -> #DIV/0! | N23: =100-(L23+M23) -> #DIV/0! | O23: ='Feuille de travail CE1'!K23*100/'Feuille de travail CE1'!B23 -> #DIV/0! | P23: ='Feuille de travail CE1'!L23*100/'Feuille de travail CE1'!B23 -> #DIV/0! | Q23: =100-(O23+P23) -> #DIV/0! | R23: ='Feuille de travail CE1'!M23*100/'Feuille de travail CE1'!B23 -> #DIV/0! | S23: ='Feuille de travail CE1'!N23*100/'Feuille de travail CE1'!B23 -> #DIV/0! | T23: =100-(R23+S23) -> #DIV/0! | U23: ='Feuille de travail CE1'!O23*100/'Feuille de travail CE1'!B23 -> #DIV/0! | V23: ='Feuille de travail CE1'!P23*100/'Feuille de travail CE1'!B23 -> #DIV/0! | W23: =100-(U23+V23) -> #DIV/0! | X23: ='Feuille de travail CE1'!Q23*100/'Feuille de travail CE1'!B23 -> #DIV/0! | Y23: ='Feuille de travail CE1'!R23*100/'Feuille de travail CE1'!B23 -> #DIV/0! | Z23: =100-(X23+Y23) -> #DIV/0! | AA23: ='Feuille de travail CE1'!S23*100/'Feuille de travail CE1'!B23 -> #DIV/0! | AB23: ='Feuille de travail CE1'!T23*100/'Feuille de travail CE1'!B23 -> #DIV/0! | AC23: =100-(AA23+AB23) -> #DIV/0!
A24: CE1 C | B24: ='Feuille de travail CE1'!B24 -> 0 | C24: ='Feuille de travail CE1'!C24*100/'Feuille de travail CE1'!B24 -> #DIV/0! | D24: ='Feuille de travail CE1'!D24*100/'Feuille de travail CE1'!B24 -> #DIV/0! | E24: =100-(C24+D24) -> #DIV/0! | F24: ='Feuille de travail CE1'!E24*100/'Feuille de travail CE1'!B24 -> #DIV/0! | G24: ='Feuille de travail CE1'!F24*100/'Feuille de travail CE1'!B24 -> #DIV/0! | H24: =100-(F24+G24) -> #DIV/0! | I24: ='Feuille de travail CE1'!G24*100/'Feuille de travail CE1'!B24 -> #DIV/0! | J24: ='Feuille de travail CE1'!H24*100/'Feuille de travail CE1'!B24 -> #DIV/0! | K24: =100-(I24+J24) -> #DIV/0! | L24: ='Feuille de travail CE1'!I24*100/'Feuille de travail CE1'!B24 -> #DIV/0! | M24: ='Feuille de travail CE1'!J24*100/'Feuille de travail CE1'!B24 -> #DIV/0! | N24: =100-(L24+M24) -> #DIV/0! | O24: ='Feuille de travail CE1'!K24*100/'Feuille de travail CE1'!B24 -> #DIV/0! | P24: ='Feuille de travail CE1'!L24*100/'Feuille de travail CE1'!B24 -> #DIV/0! | Q24: =100-(O24+P24) -> #DIV/0! | R24: ='Feuille de travail CE1'!M24*100/'Feuille de travail CE1'!B24 -> #DIV/0! | S24: ='Feuille de travail CE1'!N24*100/'Feuille de travail CE1'!B24 -> #DIV/0! | T24: =100-(R24+S24) -> #DIV/0! | U24: ='Feuille de travail CE1'!O24*100/'Feuille de travail CE1'!B24 -> #DIV/0! | V24: ='Feuille de travail CE1'!P24*100/'Feuille de travail CE1'!B24 -> #DIV/0! | W24: =100-(U24+V24) -> #DIV/0! | X24: ='Feuille de travail CE1'!Q24*100/'Feuille de travail CE1'!B24 -> #DIV/0! | Y24: ='Feuille de travail CE1'!R24*100/'Feuille de travail CE1'!B24 -> #DIV/0! | Z24: =100-(X24+Y24) -> #DIV/0! | AA24: ='Feuille de travail CE1'!S24*100/'Feuille de travail CE1'!B24 -> #DIV/0! | AB24: ='Feuille de travail CE1'!T24*100/'Feuille de travail CE1'!B24 -> #DIV/0! | AC24: =100-(AA24+AB24) -> #DIV/0!
B25: ='Feuille de travail CE1'!B25 -> 0 | C25: ='Feuille de travail CE1'!C25*100/'Feuille de travail CE1'!B25 -> #DIV/0! | D25: ='Feuille de travail CE1'!D25*100/'Feuille de travail CE1'!B25 -> #DIV/0! | E25: =100-(C25+D25) -> #DIV/0! | F25: ='Feuille de travail CE1'!E25*100/'Feuille de travail CE1'!B25 -> #DIV/0! | G25: ='Feuille de travail CE1'!F25*100/'Feuille de travail CE1'!B25 -> #DIV/0! | H25: =100-(F25+G25) -> #DIV/0! | I25: ='Feuille de travail CE1'!G25*100/'Feuille de travail CE1'!B25 -> #DIV/0! | J25: ='Feuille de travail CE1'!H25*100/'Feuille de travail CE1'!B25 -> #DIV/0! | K25: =100-(I25+J25) -> #DIV/0! | L25: ='Feuille de travail CE1'!I25*100/'Feuille de travail CE1'!B25 -> #DIV/0! | M25: ='Feuille de travail CE1'!J25*100/'Feuille de travail CE1'!B25 -> #DIV/0! | N25: =100-(L25+M25) -> #DIV/0! | O25: ='Feuille de travail CE1'!K25*100/'Feuille de travail CE1'!B25 -> #DIV/0! | P25: ='Feuille de travail CE1'!L25*100/'Feuille de travail CE1'!B25 -> #DIV/0! | Q25: =100-(O25+P25) -> #DIV/0! | R25: ='Feuille de travail CE1'!M25*100/'Feuille de travail CE1'!B25 -> #DIV/0! | S25: ='Feuille de travail CE1'!N25*100/'Feuille de travail CE1'!B25 -> #DIV/0! | T25: =100-(R25+S25) -> #DIV/0! | U25: ='Feuille de travail CE1'!O25*100/'Feuille de travail CE1'!B25 -> #DIV/0! | V25: ='Feuille de travail CE1'!P25*100/'Feuille de travail CE1'!B25 -> #DIV/0! | W25: =100-(U25+V25) -> #DIV/0! | X25: ='Feuille de travail CE1'!Q25*100/'Feuille de travail CE1'!B25 -> #DIV/0! | Y25: ='Feuille de travail CE1'!R25*100/'Feuille de travail CE1'!B25 -> #DIV/0! | Z25: =100-(X25+Y25) -> #DIV/0! | AA25: ='Feuille de travail CE1'!S25*100/'Feuille de travail CE1'!B25 -> #DIV/0! | AB25: ='Feuille de travail CE1'!T25*100/'Feuille de travail CE1'!B25 -> #DIV/0! | AC25: =100-(AA25+AB25) -> #DIV/0!
